BEGIN:VCALENDAR
VERSION:2.0
PRODID:-// - ECPv6.6.4//NONSGML v1.0//EN
CALSCALE:GREGORIAN
METHOD:PUBLISH
X-ORIGINAL-URL:https://londonblackheritagecouncil.ca
X-WR-CALDESC:Events for 
REFRESH-INTERVAL;VALUE=DURATION:PT1H
X-Robots-Tag:noindex
X-PUBLISHED-TTL:PT1H
BEGIN:VTIMEZONE
TZID:UTC
BEGIN:STANDARD
TZOFFSETFROM:+0000
TZOFFSETTO:+0000
TZNAME:UTC
DTSTART:20250101T000000
END:STANDARD
END:VTIMEZONE
BEGIN:VEVENT
DTSTART;TZID=UTC:20250212T173000
DTEND;TZID=UTC:20250212T193000
DTSTAMP:20260422T200510
CREATED:20250207T175133Z
LAST-MODIFIED:20250207T175239Z
UID:742-1739381400-1739388600@londonblackheritagecouncil.ca
SUMMARY:Pillar Nonprofit Network and the London Black Heritage Council Black History Month Event
DESCRIPTION:Join us for an impactful Black History Month event\nPillar Nonprofit Network and the London Black Heritage Council (London Black History Coordinating Committee) invite you to Building Capacity & Resilience in Black-Led Organizations\, a powerful event dedicated to strengthening Black-led and Black-serving organizations. \nDate: Wednesday\, February 12\, 2025 \nTime: 5:30 PM – 7:30 PM \nLocation: Innovation Works – CommUNITY Living Room\, 201 King Street\, London\, ON \nCost: Free (Registration required) \nRegister now: https://pillarnonprofit.ca/…/pillar-nonprofit-network
URL:https://londonblackheritagecouncil.ca/event/pillar-nonprofit-network-and-the-london-black-heritage-council-black-history-month-event/
LOCATION:Innovation Works – CommUNITY Living Room\, 201 King Street\, lONDON\, Ontario\, N6A 1C9\, Canada
CATEGORIES:Black History Month 2025
ATTACH;FMTTYPE=image/jpeg:https://londonblackheritagecouncil.ca/wp-content/uploads/2025/02/Building-Capacity-Resiliance.jpg
END:VEVENT
END:VCALENDAR