BEGIN:VCALENDAR
VERSION:2.0
PRODID:-// - ECPv6.6.4//NONSGML v1.0//EN
CALSCALE:GREGORIAN
METHOD:PUBLISH
X-ORIGINAL-URL:https://londonblackheritagecouncil.ca
X-WR-CALDESC:Events for 
REFRESH-INTERVAL;VALUE=DURATION:PT1H
X-Robots-Tag:noindex
X-PUBLISHED-TTL:PT1H
BEGIN:VTIMEZONE
TZID:UTC
BEGIN:STANDARD
TZOFFSETFROM:+0000
TZOFFSETTO:+0000
TZNAME:UTC
DTSTART:20250101T000000
END:STANDARD
END:VTIMEZONE
BEGIN:VEVENT
DTSTART;TZID=UTC:20250226T173000
DTEND;TZID=UTC:20250226T190000
DTSTAMP:20260423T222653
CREATED:20250207T172536Z
LAST-MODIFIED:20250207T172558Z
UID:736-1740591000-1740596400@londonblackheritagecouncil.ca
SUMMARY:Canadian Club of London inspiring evening of storytelling\, history\, and reflection at Black Heritage
DESCRIPTION:Join us for an inspiring evening of storytelling\, history\, and reflection at Black Heritage: Our Past\, Our Present\, Our Future Canadian Club of London \nDate: February 26 \nTime: 5:30 PM \nLocation & Tickets: Visit canadiancluboflondon.com/calendar \nTickets: $25 \nAs diverse voices from the African Diaspora\, our panelists will share lived experiences\, insights\, and powerful perspectives on Black history and heritage. Don’t miss this meaningful event!
URL:https://londonblackheritagecouncil.ca/event/canadian-club-of-london-inspiring-evening-of-storytelling-history-and-reflection-at-black-heritage/
LOCATION:Huron University\, 1349 Western Rd\, London\, Ontario\, N6G 1H3\, Canada
CATEGORIES:Events
ATTACH;FMTTYPE=image/jpeg:https://londonblackheritagecouncil.ca/wp-content/uploads/2025/02/Canadian-Club-of-London.jpg
END:VEVENT
END:VCALENDAR