BEGIN:VCALENDAR
VERSION:2.0
PRODID:-// - ECPv6.6.4//NONSGML v1.0//EN
CALSCALE:GREGORIAN
METHOD:PUBLISH
X-ORIGINAL-URL:https://londonblackheritagecouncil.ca
X-WR-CALDESC:Events for 
REFRESH-INTERVAL;VALUE=DURATION:PT1H
X-Robots-Tag:noindex
X-PUBLISHED-TTL:PT1H
BEGIN:VTIMEZONE
TZID:UTC
BEGIN:STANDARD
TZOFFSETFROM:+0000
TZOFFSETTO:+0000
TZNAME:UTC
DTSTART:20250101T000000
END:STANDARD
END:VTIMEZONE
BEGIN:VEVENT
DTSTART;TZID=UTC:20250222T080000
DTEND;TZID=UTC:20250222T170000
DTSTAMP:20260420T054103
CREATED:20250207T173320Z
LAST-MODIFIED:20250207T173320Z
UID:739-1740211200-1740243600@londonblackheritagecouncil.ca
SUMMARY:Black History Month 2025 Closing Celebration
DESCRIPTION:Let’s wrap up #BlackHistoryMonth2025 with an incredible celebration of Black culture\, excellence\, and achievements!  London Public Library \nMark your calendars: February 22nd\, 2025 \nTime: 1:30 PM – 5:00 PM \nWhere: Wolf Performance Hall\, 251 Dundas St.\, London\, ON \nFrom inspiring performances to powerful reflections\, this is a day you won’t want to miss. Let’s come together as a community to honor the past\, celebrate the present\, and inspire the future. \nGet your tickets now: https://www.eventbrite.ca/…/black-history-month-2025… \nBring your friends\, your energy\, and your love for Black excellence – let’s make this an event to remember!
URL:https://londonblackheritagecouncil.ca/event/black-history-month-2025-closing-celebration/
LOCATION:Wolf Performance Hall\, 251 Dundas St\, London\, Ontario\, N6A 6H9\, Canada
CATEGORIES:Black History Month 2025
ATTACH;FMTTYPE=image/jpeg:https://londonblackheritagecouncil.ca/wp-content/uploads/2025/02/Closing.jpg
END:VEVENT
END:VCALENDAR