BEGIN:VCALENDAR
VERSION:2.0
PRODID:-// - ECPv6.6.4//NONSGML v1.0//EN
CALSCALE:GREGORIAN
METHOD:PUBLISH
X-ORIGINAL-URL:https://londonblackheritagecouncil.ca
X-WR-CALDESC:Events for 
REFRESH-INTERVAL;VALUE=DURATION:PT1H
X-Robots-Tag:noindex
X-PUBLISHED-TTL:PT1H
BEGIN:VTIMEZONE
TZID:America/Toronto
BEGIN:DAYLIGHT
TZOFFSETFROM:-0500
TZOFFSETTO:-0400
TZNAME:EDT
DTSTART:20240310T070000
END:DAYLIGHT
BEGIN:STANDARD
TZOFFSETFROM:-0400
TZOFFSETTO:-0500
TZNAME:EST
DTSTART:20241103T060000
END:STANDARD
END:VTIMEZONE
BEGIN:VEVENT
DTSTART;TZID=America/Toronto:20240908T130000
DTEND;TZID=America/Toronto:20240908T170000
DTSTAMP:20260419T210238
CREATED:20240815T011046Z
LAST-MODIFIED:20250128T190349Z
UID:414-1725800400-1725814800@londonblackheritagecouncil.ca
SUMMARY:Community Picnic
DESCRIPTION:The London Black History Coordinating Committee (LBHCC) invites you to our annual Community Picnic on Sunday\, September 8\, 2024\, from 1:00 PM to 5:00 PM at the beautiful Springbank Park (Area K).\nThis gathering is more than just a picnic—it’s an opportunity for our community to come together\, celebrate our rich heritage\, and foster connections in a welcoming and inclusive environment. Whether you’re looking to reconnect with old friends\, meet new people\, or simply enjoy a relaxing afternoon in the park\, this event is for everyone! \nWhat to Expect:\nDelicious Food: Enjoy a variety of mouthwatering dishes that reflect the diverse culinary traditions of our community.\nLive Entertainment: Groove to live music performances\, featuring local artists who will bring vibrant energy to the day.\nFamily-Friendly Activities: From games to face painting\, there’s something for everyone to enjoy\, especially the little ones!\nCultural Showcases: Experience cultural performances and exhibits that highlight the history and contributions of Black Canadians in London. \nThis picnic is a celebration of unity\, culture\, and community spirit. We encourage you to bring your family\, friends\, and neighbors to share in the festivities. Don’t forget to bring your picnic blankets and chairs to make the afternoon comfortable and enjoyable. \nEvent Details\nDate: Sunday\, September 8\, 2024\nTime: 1:00 PM – 5:00 PM\nLocation: Springbank Park (Area K)\, London\, Ontario\nThis event is free and open to everyone\, so mark your calendars and spread the word! Let’s come together to celebrate our shared history and create lasting memories in the heart of London. \nFor more information or to volunteer\, please contact the London Black History Coordinating Committee. We look forward to seeing you there!
URL:https://londonblackheritagecouncil.ca/event/join-us-for-a-vibrant-community-picnic-at-springbank-park/
LOCATION:Springbank Park\, 1085 Commissioners Rd W\, London\,\, London\, Ontario\, N6K 4Y6\, Canada
ATTACH;FMTTYPE=image/jpeg:https://londonblackheritagecouncil.ca/wp-content/uploads/2024/08/thumbnail.jpeg
END:VEVENT
END:VCALENDAR